Package: SC3 Version: 1.35.0 Command: /Library/Frameworks/R.framework/Resources/bin/R CMD INSTALL SC3 StartedAt: 2025-02-05 15:15:15 -0500 (Wed, 05 Feb 2025) EndedAt: 2025-02-05 15:15:29 -0500 (Wed, 05 Feb 2025) EllapsedTime: 14.8 seconds RetCode: 0 Status: OK