Package: SBMLR Version: 2.5.0 Command: chmod a+r SBMLR -R && F:\biocbuild\bbs-3.22-bioc\R\bin\R.exe CMD build --keep-empty-dirs --no-resave-data SBMLR StartedAt: 2025-08-14 22:58:42 -0400 (Thu, 14 Aug 2025) EndedAt: 2025-08-14 22:59:11 -0400 (Thu, 14 Aug 2025) EllapsedTime: 29.4 seconds RetCode: 0 Status: OK PackageFile: SBMLR_2.5.0.tar.gz PackageFileSize: 180.8 KiB