Package: SBMLR Version: 2.5.0 Command: rm -rf SBMLR.buildbin-libdir && mkdir SBMLR.buildbin-libdir && F:\biocbuild\bbs-3.22-bioc\R\bin\R.exe CMD INSTALL --build --library=SBMLR.buildbin-libdir SBMLR_2.5.0.tar.gz StartedAt: 2025-08-15 11:13:24 -0400 (Fri, 15 Aug 2025) EndedAt: 2025-08-15 11:13:42 -0400 (Fri, 15 Aug 2025) EllapsedTime: 17.8 seconds RetCode: 0 Status: OK PackageFile: SBMLR_2.5.0.zip PackageFileSize: 232.3 KiB