Package: SBMLR Version: 2.5.0 Command: /Library/Frameworks/R.framework/Resources/bin/R CMD INSTALL SBMLR StartedAt: 2025-05-26 15:26:44 -0400 (Mon, 26 May 2025) EndedAt: 2025-05-26 15:27:23 -0400 (Mon, 26 May 2025) EllapsedTime: 39.3 seconds RetCode: 0 Status: OK