Package: SANTA Version: 2.45.0 Command: chmod a+r SANTA -R && F:\biocbuild\bbs-3.22-bioc\R\bin\R.exe CMD build --keep-empty-dirs --no-resave-data SANTA StartedAt: 2025-08-14 22:58:14 -0400 (Thu, 14 Aug 2025) EndedAt: 2025-08-14 22:58:41 -0400 (Thu, 14 Aug 2025) EllapsedTime: 26.6 seconds RetCode: 0 Status: OK PackageFile: SANTA_2.45.0.tar.gz PackageFileSize: 4.372 MiB