Package: SANTA Version: 2.45.0 Command: /home/biocbuild/bbs-3.22-bioc/R/bin/R CMD INSTALL SANTA StartedAt: 2025-10-12 15:05:13 -0400 (Sun, 12 Oct 2025) EndedAt: 2025-10-12 15:05:27 -0400 (Sun, 12 Oct 2025) EllapsedTime: 13.5 seconds RetCode: 0 Status: OK