Package: SANTA Version: 2.45.0 Command: /home/biocbuild/bbs-3.22-bioc/R/bin/R CMD build --keep-empty-dirs --no-resave-data --md5 SANTA StartedAt: 2025-10-12 19:44:38 -0400 (Sun, 12 Oct 2025) EndedAt: 2025-10-12 19:44:47 -0400 (Sun, 12 Oct 2025) EllapsedTime: 9.0 seconds RetCode: 0 Status: OK PackageFile: SANTA_2.45.0.tar.gz PackageFileSize: 4.374 MiB