Package: SANTA Version: 2.45.0 Maintainer: Alex Cornish MaintainerEmail: alexcornish88 at gmail.com git_url: https://git.bioconductor.org/packages/SANTA git_branch: devel git_last_commit: 9f6856e git_last_commit_date: 2025-04-15 12:19:41 -0400 (Tue, 15 Apr 2025)