Package: SAIGEgds Version: 2.9.2 Command: /home/biocbuild/bbs-3.22-bioc/R/bin/R CMD INSTALL SAIGEgds StartedAt: 2025-10-19 15:24:24 -0400 (Sun, 19 Oct 2025) EndedAt: 2025-10-19 15:25:42 -0400 (Sun, 19 Oct 2025) EllapsedTime: 78.2 seconds RetCode: 0 Status: OK