Package: SAIGEgds Version: 2.9.2 Command: /home/biocbuild/bbs-3.22-bioc/R/bin/R CMD build --keep-empty-dirs --no-resave-data --md5 SAIGEgds StartedAt: 2025-10-19 19:46:44 -0400 (Sun, 19 Oct 2025) EndedAt: 2025-10-19 19:48:14 -0400 (Sun, 19 Oct 2025) EllapsedTime: 90.1 seconds RetCode: 0 Status: OK PackageFile: SAIGEgds_2.9.2.tar.gz PackageFileSize: 1.981 MiB