Package: SAIGEgds Version: 2.7.1 Command: /home/biocbuild/R/R/bin/R CMD build --keep-empty-dirs --no-resave-data SAIGEgds StartedAt: 2025-01-11 02:06:39 -0000 (Sat, 11 Jan 2025) EndedAt: 2025-01-11 02:08:33 -0000 (Sat, 11 Jan 2025) EllapsedTime: 113.1 seconds RetCode: 0 Status: OK PackageFile: SAIGEgds_2.7.1.tar.gz PackageFileSize: 1.91 MiB