Package: S4Vectors Version: 0.45.2 Command: E:\biocbuild\bbs-3.21-bioc\R\bin\R.exe CMD check --no-multiarch --install=check:S4Vectors.install-out.txt --library=E:\biocbuild\bbs-3.21-bioc\R\library --no-vignettes --timings S4Vectors_0.45.2.tar.gz StartedAt: 2025-02-04 05:25:38 -0500 (Tue, 04 Feb 2025) EndedAt: 2025-02-04 05:27:53 -0500 (Tue, 04 Feb 2025) EllapsedTime: 134.3 seconds RetCode: 0 Status: WARNINGS CheckDir: S4Vectors.Rcheck Warnings: 3