Package: S4Vectors Version: 0.45.2 Command: /Library/Frameworks/R.framework/Resources/bin/R CMD INSTALL S4Vectors StartedAt: 2025-02-03 15:10:26 -0500 (Mon, 03 Feb 2025) EndedAt: 2025-02-03 15:10:59 -0500 (Mon, 03 Feb 2025) EllapsedTime: 33.5 seconds RetCode: 0 Status: OK