Package: S4Vectors Version: 0.45.2 Command: /Library/Frameworks/R.framework/Resources/bin/R CMD build --keep-empty-dirs --no-resave-data S4Vectors StartedAt: 2025-02-03 18:12:54 -0500 (Mon, 03 Feb 2025) EndedAt: 2025-02-03 18:13:58 -0500 (Mon, 03 Feb 2025) EllapsedTime: 64.1 seconds RetCode: 0 Status: OK PackageFile: S4Vectors_0.45.2.tar.gz PackageFileSize: 1.001 MiB