Package: S4Vectors Version: 0.45.2 Command: /Library/Frameworks/R.framework/Resources/bin/R CMD check --install=check:S4Vectors.install-out.txt --library=/Library/Frameworks/R.framework/Resources/library --no-vignettes --timings S4Vectors_0.45.2.tar.gz StartedAt: 2025-02-03 21:43:12 -0500 (Mon, 03 Feb 2025) EndedAt: 2025-02-03 21:43:48 -0500 (Mon, 03 Feb 2025) EllapsedTime: 35.4 seconds RetCode: 0 Status: WARNINGS CheckDir: S4Vectors.Rcheck Warnings: 2