Package: S4Arrays Version: 1.7.1 Command: /Library/Frameworks/R.framework/Resources/bin/R CMD check --install=check:S4Arrays.install-out.txt --library=/Library/Frameworks/R.framework/Resources/library --no-vignettes --timings S4Arrays_1.7.1.tar.gz StartedAt: 2025-01-31 21:09:47 -0500 (Fri, 31 Jan 2025) EndedAt: 2025-01-31 21:10:33 -0500 (Fri, 31 Jan 2025) EllapsedTime: 45.5 seconds RetCode: 0 Status: OK CheckDir: S4Arrays.Rcheck Warnings: 0