Package: S4Arrays Version: 1.7.1 Command: /Library/Frameworks/R.framework/Resources/bin/R CMD build --keep-empty-dirs --no-resave-data S4Arrays StartedAt: 2025-01-31 17:29:53 -0500 (Fri, 31 Jan 2025) EndedAt: 2025-01-31 17:30:02 -0500 (Fri, 31 Jan 2025) EllapsedTime: 9.1 seconds RetCode: 0 Status: OK PackageFile: S4Arrays_1.7.1.tar.gz PackageFileSize: 279.6 KiB