Package: Rvisdiff Version: 1.5.0 Command: /Library/Frameworks/R.framework/Resources/bin/R CMD build --keep-empty-dirs --no-resave-data Rvisdiff StartedAt: 2025-02-03 18:12:43 -0500 (Mon, 03 Feb 2025) EndedAt: 2025-02-03 18:13:51 -0500 (Mon, 03 Feb 2025) EllapsedTime: 68.6 seconds RetCode: 0 Status: OK PackageFile: Rvisdiff_1.5.0.tar.gz PackageFileSize: 1.314 MiB