Package: Rsubread Version: 2.23.8 Command: /home/biocbuild/bbs-3.22-bioc/R/bin/R CMD INSTALL Rsubread StartedAt: 2025-10-15 15:04:51 -0400 (Wed, 15 Oct 2025) EndedAt: 2025-10-15 15:05:40 -0400 (Wed, 15 Oct 2025) EllapsedTime: 49.7 seconds RetCode: 0 Status: OK