Package: Rsubread Version: 2.23.8 Command: /home/biocbuild/bbs-3.22-bioc/R/bin/R CMD build --keep-empty-dirs --no-resave-data --md5 Rsubread StartedAt: 2025-10-15 19:53:38 -0400 (Wed, 15 Oct 2025) EndedAt: 2025-10-15 20:01:55 -0400 (Wed, 15 Oct 2025) EllapsedTime: 496.4 seconds RetCode: 0 Status: OK PackageFile: Rsubread_2.23.8.tar.gz PackageFileSize: 12.97 MiB