Package: Rsamtools Version: 2.25.2 Command: rm -rf Rsamtools.buildbin-libdir && mkdir Rsamtools.buildbin-libdir && F:\biocbuild\bbs-3.22-bioc\R\bin\R.exe CMD INSTALL --build --library=Rsamtools.buildbin-libdir Rsamtools_2.25.2.tar.gz StartedAt: 2025-08-15 11:11:08 -0400 (Fri, 15 Aug 2025) EndedAt: 2025-08-15 11:14:11 -0400 (Fri, 15 Aug 2025) EllapsedTime: 183.0 seconds RetCode: 0 Status: OK PackageFile: Rsamtools_2.25.2.zip PackageFileSize: 7.651 MiB