Package: Rqc Version: 1.43.0 Command: rm -rf Rqc.buildbin-libdir && mkdir Rqc.buildbin-libdir && F:\biocbuild\bbs-3.22-bioc\R\bin\R.exe CMD INSTALL --build --library=Rqc.buildbin-libdir Rqc_1.43.0.tar.gz StartedAt: 2025-08-15 11:10:52 -0400 (Fri, 15 Aug 2025) EndedAt: 2025-08-15 11:12:08 -0400 (Fri, 15 Aug 2025) EllapsedTime: 76.1 seconds RetCode: 0 Status: OK PackageFile: Rqc_1.43.0.zip PackageFileSize: 1.059 MiB