Package: Rqc Version: 1.41.0 Command: E:\biocbuild\bbs-3.21-bioc\R\bin\R.exe CMD INSTALL Rqc StartedAt: 2025-02-16 16:35:21 -0500 (Sun, 16 Feb 2025) EndedAt: 2025-02-16 16:36:41 -0500 (Sun, 16 Feb 2025) EllapsedTime: 80.1 seconds RetCode: 0 Status: OK