Package: Rqc Version: 1.41.0 Command: /Library/Frameworks/R.framework/Resources/bin/R CMD build --keep-empty-dirs --no-resave-data Rqc StartedAt: 2025-02-14 18:00:27 -0500 (Fri, 14 Feb 2025) EndedAt: 2025-02-14 18:02:05 -0500 (Fri, 14 Feb 2025) EllapsedTime: 98.2 seconds RetCode: 0 Status: OK PackageFile: Rqc_1.41.0.tar.gz PackageFileSize: 1.31 MiB