Package: Rqc Version: 1.43.0 Command: rm -rf Rqc.buildbin-libdir && mkdir Rqc.buildbin-libdir && /Users/biocbuild/BBS/utils/build-universal.sh Rqc_1.43.0.tar.gz /Library/Frameworks/R.framework/Resources/bin/R Rqc.buildbin-libdir StartedAt: 2025-10-01 02:03:13 -0400 (Wed, 01 Oct 2025) EndedAt: 2025-10-01 02:04:32 -0400 (Wed, 01 Oct 2025) EllapsedTime: 78.7 seconds RetCode: 0 Status: OK PackageFile: Rqc_1.43.0.tgz PackageFileSize: 1.439 MiB