Package: RolDE Version: 1.13.0 Command: F:\biocbuild\bbs-3.22-bioc\R\bin\R.exe CMD INSTALL RolDE StartedAt: 2025-08-14 16:03:06 -0400 (Thu, 14 Aug 2025) EndedAt: 2025-08-14 16:03:35 -0400 (Thu, 14 Aug 2025) EllapsedTime: 28.9 seconds RetCode: 0 Status: OK