Package: RolDE Version: 1.13.0 Command: rm -rf RolDE.buildbin-libdir && mkdir RolDE.buildbin-libdir && /Users/biocbuild/BBS/utils/build-universal.sh RolDE_1.13.0.tar.gz /Library/Frameworks/R.framework/Resources/bin/R RolDE.buildbin-libdir StartedAt: 2025-05-03 01:02:33 -0400 (Sat, 03 May 2025) EndedAt: 2025-05-03 01:03:06 -0400 (Sat, 03 May 2025) EllapsedTime: 32.4 seconds RetCode: 0 Status: OK PackageFile: RolDE_1.13.0.tgz PackageFileSize: 1.383 MiB