Package: RolDE Version: 1.13.0 Command: /Library/Frameworks/R.framework/Resources/bin/R CMD check --install=check:RolDE.install-out.txt --library=/Library/Frameworks/R.framework/Resources/library --no-vignettes --timings RolDE_1.13.0.tar.gz StartedAt: 2025-05-06 21:39:45 -0400 (Tue, 06 May 2025) EndedAt: 2025-05-06 21:41:46 -0400 (Tue, 06 May 2025) EllapsedTime: 120.5 seconds RetCode: 0 Status: OK CheckDir: RolDE.Rcheck Warnings: 0