Package: RolDE Version: 1.13.0 Command: rm -rf RolDE.buildbin-libdir && mkdir RolDE.buildbin-libdir && /Users/biocbuild/BBS/utils/build-universal.sh RolDE_1.13.0.tar.gz /Library/Frameworks/R.framework/Resources/bin/R RolDE.buildbin-libdir StartedAt: 2025-05-06 23:13:27 -0400 (Tue, 06 May 2025) EndedAt: 2025-05-06 23:13:38 -0400 (Tue, 06 May 2025) EllapsedTime: 11.2 seconds RetCode: 0 Status: OK PackageFile: RolDE_1.13.0.tgz PackageFileSize: 1.385 MiB