Package: Rnits Version: 1.43.0 Command: chmod a+r Rnits -R && F:\biocbuild\bbs-3.22-bioc\R\bin\R.exe CMD build --keep-empty-dirs --no-resave-data Rnits StartedAt: 2025-08-14 22:50:31 -0400 (Thu, 14 Aug 2025) EndedAt: 2025-08-14 22:52:33 -0400 (Thu, 14 Aug 2025) EllapsedTime: 122.7 seconds RetCode: 0 Status: OK PackageFile: Rnits_1.43.0.tar.gz PackageFileSize: 655.2 KiB