Package: RnaSeqSampleSize Version: 2.17.0 Command: /Library/Frameworks/R.framework/Resources/bin/R CMD INSTALL RnaSeqSampleSize StartedAt: 2025-02-16 15:43:40 -0500 (Sun, 16 Feb 2025) EndedAt: 2025-02-16 15:44:50 -0500 (Sun, 16 Feb 2025) EllapsedTime: 70.7 seconds RetCode: 0 Status: OK