Package: RnBeads Version: 2.27.2 Command: /home/biocbuild/bbs-3.22-bioc/R/bin/R CMD INSTALL RnBeads StartedAt: 2025-10-15 16:06:17 -0400 (Wed, 15 Oct 2025) EndedAt: 2025-10-15 16:08:11 -0400 (Wed, 15 Oct 2025) EllapsedTime: 114.7 seconds RetCode: 0 Status: OK