Package: RnBeads Version: 2.27.2 Command: /home/biocbuild/bbs-3.22-bioc/R/bin/R CMD build --keep-empty-dirs --no-resave-data --md5 RnBeads StartedAt: 2025-10-15 19:50:58 -0400 (Wed, 15 Oct 2025) EndedAt: 2025-10-15 19:53:13 -0400 (Wed, 15 Oct 2025) EllapsedTime: 135.1 seconds RetCode: 0 Status: OK PackageFile: RnBeads_2.27.2.tar.gz PackageFileSize: 7.581 MiB