Package: Rmmquant Version: 1.27.0 Command: rm -rf Rmmquant.buildbin-libdir && mkdir Rmmquant.buildbin-libdir && F:\biocbuild\bbs-3.22-bioc\R\bin\R.exe CMD INSTALL --build --library=Rmmquant.buildbin-libdir Rmmquant_1.27.0.tar.gz StartedAt: 2025-08-15 11:09:19 -0400 (Fri, 15 Aug 2025) EndedAt: 2025-08-15 11:10:32 -0400 (Fri, 15 Aug 2025) EllapsedTime: 73.4 seconds RetCode: 0 Status: OK PackageFile: Rmmquant_1.27.0.zip PackageFileSize: 835.4 KiB