Package: Rmagpie Version: 1.65.0 Command: /home/biocbuild/bbs-3.22-bioc/R/bin/R CMD INSTALL Rmagpie StartedAt: 2025-10-07 15:12:02 -0400 (Tue, 07 Oct 2025) EndedAt: 2025-10-07 15:12:14 -0400 (Tue, 07 Oct 2025) EllapsedTime: 12.0 seconds RetCode: 0 Status: OK