Package: Rmagpie Version: 1.65.0 Command: /home/biocbuild/bbs-3.22-bioc/R/bin/R CMD build --keep-empty-dirs --no-resave-data --md5 Rmagpie StartedAt: 2025-10-07 19:43:13 -0400 (Tue, 07 Oct 2025) EndedAt: 2025-10-07 19:43:45 -0400 (Tue, 07 Oct 2025) EllapsedTime: 32.0 seconds RetCode: 0 Status: OK PackageFile: Rmagpie_1.65.0.tar.gz PackageFileSize: 483.5 KiB