Package: Rigraphlib Version: 1.3.1 Command: /home/biocbuild/bbs-3.23-bioc/R/bin/R CMD INSTALL Rigraphlib StartedAt: 2025-11-05 15:12:02 -0500 (Wed, 05 Nov 2025) EndedAt: 2025-11-05 15:16:08 -0500 (Wed, 05 Nov 2025) EllapsedTime: 245.8 seconds RetCode: 0 Status: OK