Package: Rigraphlib Version: 1.3.1 Command: /home/biocbuild/bbs-3.23-bioc/R/bin/R CMD check --install=check:Rigraphlib.install-out.txt --library=/home/biocbuild/bbs-3.23-bioc/R/site-library --timings Rigraphlib_1.3.1.tar.gz StartedAt: 2025-11-20 03:17:01 -0500 (Thu, 20 Nov 2025) EndedAt: 2025-11-20 03:17:21 -0500 (Thu, 20 Nov 2025) EllapsedTime: 20.0 seconds RetCode: 0 Status: WARNINGS CheckDir: Rigraphlib.Rcheck Warnings: 1