Package: Rigraphlib Version: 1.3.1 Command: /home/biocbuild/bbs-3.23-bioc/R/bin/R CMD build --keep-empty-dirs --no-resave-data Rigraphlib StartedAt: 2025-11-05 19:39:57 -0500 (Wed, 05 Nov 2025) EndedAt: 2025-11-05 19:40:09 -0500 (Wed, 05 Nov 2025) EllapsedTime: 12.0 seconds RetCode: 0 Status: OK PackageFile: Rigraphlib_1.3.1.tar.gz PackageFileSize: 4.573 MiB