Package: RiboProfiling Version: 1.39.0 Maintainer: A. Popa MaintainerEmail: alexandra.mariela.popa at gmail.com git_url: https://git.bioconductor.org/packages/RiboProfiling git_branch: devel git_last_commit: bdefbb7 git_last_commit_date: 2025-04-15 10:56:00 -0400 (Tue, 15 Apr 2025)