Package: RiboDiPA Version: 1.15.1 Command: E:\biocbuild\bbs-3.21-bioc\R\bin\R.exe CMD check --no-multiarch --install=check:RiboDiPA.install-out.txt --library=E:\biocbuild\bbs-3.21-bioc\R\library --no-vignettes --timings RiboDiPA_1.15.1.tar.gz StartedAt: 2025-02-04 05:09:34 -0500 (Tue, 04 Feb 2025) EndedAt: 2025-02-04 05:23:22 -0500 (Tue, 04 Feb 2025) EllapsedTime: 828.3 seconds RetCode: 0 Status: OK CheckDir: RiboDiPA.Rcheck Warnings: 0