Package: RiboDiPA Version: 1.15.1 Command: /Library/Frameworks/R.framework/Resources/bin/R CMD INSTALL RiboDiPA StartedAt: 2025-02-03 15:27:54 -0500 (Mon, 03 Feb 2025) EndedAt: 2025-02-03 15:28:58 -0500 (Mon, 03 Feb 2025) EllapsedTime: 63.5 seconds RetCode: 0 Status: OK