Package: RiboDiPA Version: 1.15.1 Command: /Library/Frameworks/R.framework/Resources/bin/R CMD check --install=check:RiboDiPA.install-out.txt --library=/Library/Frameworks/R.framework/Resources/library --no-vignettes --timings RiboDiPA_1.15.1.tar.gz StartedAt: 2025-02-03 22:51:02 -0500 (Mon, 03 Feb 2025) EndedAt: 2025-02-03 23:03:39 -0500 (Mon, 03 Feb 2025) EllapsedTime: 757.1 seconds RetCode: 0 Status: OK CheckDir: RiboDiPA.Rcheck Warnings: 0