Package: RiboDiPA Version: 1.15.1 Command: /home/biocbuild/R/R/bin/R CMD INSTALL RiboDiPA StartedAt: 2025-01-29 20:02:54 -0000 (Wed, 29 Jan 2025) EndedAt: 2025-01-29 20:03:31 -0000 (Wed, 29 Jan 2025) EllapsedTime: 37.4 seconds RetCode: 1 Status: ERROR