Package: RiboDiPA Version: 1.15.1 Command: /home/biocbuild/R/R/bin/R CMD check --install=check:RiboDiPA.install-out.txt --library=/home/biocbuild/R/R/site-library --no-vignettes --timings RiboDiPA_1.15.1.tar.gz StartedAt: 2025-01-24 11:49:51 -0000 (Fri, 24 Jan 2025) EndedAt: 2025-01-24 12:08:46 -0000 (Fri, 24 Jan 2025) EllapsedTime: 1135.1 seconds RetCode: 0 Status: WARNINGS CheckDir: RiboDiPA.Rcheck Warnings: 5