############################################################################## ############################################################################## ### ### Running command: ### ### /home/biocbuild/R/R/bin/R CMD build --keep-empty-dirs --no-resave-data RiboDiPA ### ############################################################################## ############################################################################## * checking for file ‘RiboDiPA/DESCRIPTION’ ... OK * preparing ‘RiboDiPA’: * checking DESCRIPTION meta-information ... OK * cleaning src * installing the package to build vignettes ----------------------------------- * installing *source* package ‘RiboDiPA’ ... ** using staged installation ** libs using C++ compiler: ‘aarch64-unknown-linux-gnu-g++ (GCC) 14.2.0’ /opt/ohpc/pub/compiler/gcc/14.2.0/bin/aarch64-unknown-linux-gnu-g++ -std=gnu++17 -I"/home/biocbuild/R/R/include" -DNDEBUG -I'/home/biocbuild/R/R-4.5.0-devel_2024-11-24/site-library/Rcpp/include' -I/usr/local/include -fPIC -g -O2 -Wall -Werror=format-security -DR_NO_REMAP -c RcppExports.cpp -o RcppExports.o /opt/ohpc/pub/compiler/gcc/14.2.0/bin/aarch64-unknown-linux-gnu-g++ -std=gnu++17 -I"/home/biocbuild/R/R/include" -DNDEBUG -I'/home/biocbuild/R/R-4.5.0-devel_2024-11-24/site-library/Rcpp/include' -I/usr/local/include -fPIC -g -O2 -Wall -Werror=format-security -DR_NO_REMAP -c centerCPP.cpp -o centerCPP.o /opt/ohpc/pub/compiler/gcc/14.2.0/bin/aarch64-unknown-linux-gnu-g++ -std=gnu++17 -shared -L/home/biocbuild/R/R/lib -L/usr/local/lib -o RiboDiPA.so RcppExports.o centerCPP.o -L/home/biocbuild/R/R/lib -lR installing to /home/biocbuild/tmp/RtmpDQt4W0/Rinst128a3157d5e69f/00LOCK-RiboDiPA/00new/RiboDiPA/libs ** R ** data *** moving datasets to lazyload DB ** inst ** byte-compile and prepare package for lazy loading Warning: program compiled against libxml 212 using older 211 Error in dyn.load(file, DLLpath = DLLpath, ...) : unable to load shared object '/home/biocbuild/R/R-4.5.0-devel_2024-11-24/site-library/densEstBayes/libs/densEstBayes.so': libtbbmalloc.so.2: cannot open shared object file: No such file or directory Calls: ... asNamespace -> loadNamespace -> library.dynam -> dyn.load Execution halted ERROR: lazy loading failed for package ‘RiboDiPA’ * removing ‘/home/biocbuild/tmp/RtmpDQt4W0/Rinst128a3157d5e69f/RiboDiPA’ ----------------------------------- ERROR: package installation failed