Package: RiboDiPA Version: 1.17.0 Command: /Library/Frameworks/R.framework/Resources/bin/R CMD check --install=check:RiboDiPA.install-out.txt --library=/Library/Frameworks/R.framework/Resources/library --no-vignettes --timings RiboDiPA_1.17.0.tar.gz StartedAt: 2025-04-29 21:12:33 -0400 (Tue, 29 Apr 2025) EndedAt: 2025-04-29 21:16:57 -0400 (Tue, 29 Apr 2025) EllapsedTime: 264.3 seconds RetCode: 0 Status: OK CheckDir: RiboDiPA.Rcheck Warnings: 0