Package: RiboDiPA Version: 1.15.1 Command: /Library/Frameworks/R.framework/Resources/bin/R CMD build --keep-empty-dirs --no-resave-data RiboDiPA StartedAt: 2025-02-04 17:24:39 -0500 (Tue, 04 Feb 2025) EndedAt: 2025-02-04 17:26:50 -0500 (Tue, 04 Feb 2025) EllapsedTime: 131.5 seconds RetCode: 0 Status: OK PackageFile: RiboDiPA_1.15.1.tar.gz PackageFileSize: 1.818 MiB