Package: RiboDiPA Version: 1.17.0 Command: rm -rf RiboDiPA.buildbin-libdir && mkdir RiboDiPA.buildbin-libdir && /Users/biocbuild/BBS/utils/build-universal.sh RiboDiPA_1.17.0.tar.gz /Library/Frameworks/R.framework/Resources/bin/R RiboDiPA.buildbin-libdir StartedAt: 2025-04-29 22:43:28 -0400 (Tue, 29 Apr 2025) EndedAt: 2025-04-29 22:43:50 -0400 (Tue, 29 Apr 2025) EllapsedTime: 22.4 seconds RetCode: 0 Status: OK PackageFile: RiboDiPA_1.17.0.tgz PackageFileSize: 1.536 MiB