Package: RiboDiPA Version: 1.15.1 Maintainer: Ji-Ping Wang MaintainerEmail: jzwang at northwestern.edu git_url: https://git.bioconductor.org/packages/RiboDiPA git_branch: devel git_last_commit: 921e372 git_last_commit_date: 2024-12-05 12:12:05 -0500 (Thu, 05 Dec 2024)